BEGIN:VCALENDAR
VERSION:2.0
PRODID:-//Circle Way Network - ECPv6.15.17//NONSGML v1.0//EN
CALSCALE:GREGORIAN
METHOD:PUBLISH
X-WR-CALNAME:Circle Way Network
X-ORIGINAL-URL:https://circlewaynetwork.eu
X-WR-CALDESC:Events for Circle Way Network
REFRESH-INTERVAL;VALUE=DURATION:PT1H
X-Robots-Tag:noindex
X-PUBLISHED-TTL:PT1H
BEGIN:VTIMEZONE
TZID:Europe/Zurich
BEGIN:DAYLIGHT
TZOFFSETFROM:+0100
TZOFFSETTO:+0200
TZNAME:CEST
DTSTART:20230326T010000
END:DAYLIGHT
BEGIN:STANDARD
TZOFFSETFROM:+0200
TZOFFSETTO:+0100
TZNAME:CET
DTSTART:20231029T010000
END:STANDARD
BEGIN:DAYLIGHT
TZOFFSETFROM:+0100
TZOFFSETTO:+0200
TZNAME:CEST
DTSTART:20240331T010000
END:DAYLIGHT
BEGIN:STANDARD
TZOFFSETFROM:+0200
TZOFFSETTO:+0100
TZNAME:CET
DTSTART:20241027T010000
END:STANDARD
BEGIN:DAYLIGHT
TZOFFSETFROM:+0100
TZOFFSETTO:+0200
TZNAME:CEST
DTSTART:20250330T010000
END:DAYLIGHT
BEGIN:STANDARD
TZOFFSETFROM:+0200
TZOFFSETTO:+0100
TZNAME:CET
DTSTART:20251026T010000
END:STANDARD
END:VTIMEZONE
BEGIN:VEVENT
DTSTART;VALUE=DATE:20240830
DTEND;VALUE=DATE:20240902
DTSTAMP:20260424T052641
CREATED:20240217T203348Z
LAST-MODIFIED:20240513T123214Z
UID:1035-1724976000-1725235199@circlewaynetwork.eu
SUMMARY:Circleway Camp in Southern Germany\, close to the city of Wangen (im Allgäu).
DESCRIPTION:Circleway Camp in Southern Germany\, close to the city of Wangen (im Allgäu). \nContact: \nCircleway-south-germany@gmx.de
URL:https://circlewaynetwork.eu/event/circleway-camp-in-southern-germany-close-to-the-city-of-wangen-im-allgau/
ATTACH;FMTTYPE=image/jpeg:https://circlewaynetwork.eu/wp-content/uploads/2024/02/c57be0c3-d2d7-4dd1-9053-7eb1ed2338c6.jpeg
END:VEVENT
END:VCALENDAR