BEGIN:VCALENDAR
VERSION:2.0
PRODID:-//Circle Way Network - ECPv6.15.17//NONSGML v1.0//EN
CALSCALE:GREGORIAN
METHOD:PUBLISH
X-ORIGINAL-URL:https://circlewaynetwork.eu
X-WR-CALDESC:Events for Circle Way Network
REFRESH-INTERVAL;VALUE=DURATION:PT1H
X-Robots-Tag:noindex
X-PUBLISHED-TTL:PT1H
BEGIN:VTIMEZONE
TZID:Europe/Zurich
BEGIN:DAYLIGHT
TZOFFSETFROM:+0100
TZOFFSETTO:+0200
TZNAME:CEST
DTSTART:20230326T010000
END:DAYLIGHT
BEGIN:STANDARD
TZOFFSETFROM:+0200
TZOFFSETTO:+0100
TZNAME:CET
DTSTART:20231029T010000
END:STANDARD
BEGIN:DAYLIGHT
TZOFFSETFROM:+0100
TZOFFSETTO:+0200
TZNAME:CEST
DTSTART:20240331T010000
END:DAYLIGHT
BEGIN:STANDARD
TZOFFSETFROM:+0200
TZOFFSETTO:+0100
TZNAME:CET
DTSTART:20241027T010000
END:STANDARD
BEGIN:DAYLIGHT
TZOFFSETFROM:+0100
TZOFFSETTO:+0200
TZNAME:CEST
DTSTART:20250330T010000
END:DAYLIGHT
BEGIN:STANDARD
TZOFFSETFROM:+0200
TZOFFSETTO:+0100
TZNAME:CET
DTSTART:20251026T010000
END:STANDARD
END:VTIMEZONE
BEGIN:VEVENT
DTSTART;VALUE=DATE:20240819
DTEND;VALUE=DATE:20240826
DTSTAMP:20260424T110224
CREATED:20240224T140509Z
LAST-MODIFIED:20240224T140509Z
UID:1058-1724025600-1724630399@circlewaynetwork.eu
SUMMARY:Summercamp Spitzmühle Berlin Germany
DESCRIPTION:19.8-25.8 Summercamp Spitzmühle Berlin Germany \nContact: kontakt@circlewaycamp.de
URL:https://circlewaynetwork.eu/event/summercamp-spitzmuhle-berlin-germany/
LOCATION:Berlin\, Berlin\, Germany
END:VEVENT
END:VCALENDAR