BEGIN:VCALENDAR
VERSION:2.0
PRODID:-//Circle Way Network - ECPv6.15.17//NONSGML v1.0//EN
CALSCALE:GREGORIAN
METHOD:PUBLISH
X-WR-CALNAME:Circle Way Network
X-ORIGINAL-URL:https://circlewaynetwork.eu
X-WR-CALDESC:Events for Circle Way Network
REFRESH-INTERVAL;VALUE=DURATION:PT1H
X-Robots-Tag:noindex
X-PUBLISHED-TTL:PT1H
BEGIN:VTIMEZONE
TZID:Europe/Zurich
BEGIN:DAYLIGHT
TZOFFSETFROM:+0100
TZOFFSETTO:+0200
TZNAME:CEST
DTSTART:20230326T010000
END:DAYLIGHT
BEGIN:STANDARD
TZOFFSETFROM:+0200
TZOFFSETTO:+0100
TZNAME:CET
DTSTART:20231029T010000
END:STANDARD
BEGIN:DAYLIGHT
TZOFFSETFROM:+0100
TZOFFSETTO:+0200
TZNAME:CEST
DTSTART:20240331T010000
END:DAYLIGHT
BEGIN:STANDARD
TZOFFSETFROM:+0200
TZOFFSETTO:+0100
TZNAME:CET
DTSTART:20241027T010000
END:STANDARD
BEGIN:DAYLIGHT
TZOFFSETFROM:+0100
TZOFFSETTO:+0200
TZNAME:CEST
DTSTART:20250330T010000
END:DAYLIGHT
BEGIN:STANDARD
TZOFFSETFROM:+0200
TZOFFSETTO:+0100
TZNAME:CET
DTSTART:20251026T010000
END:STANDARD
END:VTIMEZONE
BEGIN:VEVENT
DTSTART;VALUE=DATE:20240529
DTEND;VALUE=DATE:20240603
DTSTAMP:20260424T151905
CREATED:20240224T135827Z
LAST-MODIFIED:20240311T165428Z
UID:1045-1716940800-1717372799@circlewaynetwork.eu
SUMMARY:Circleway Camp Alpe Pianello - Italy
DESCRIPTION:29.5.-2.6. Alpe Pianello – Italy Contact: \nspringcampmilano@laviadelcerchio.it
URL:https://circlewaynetwork.eu/event/circleway-camp-alpe-pianello-italy/
LOCATION:Alpe Pianello – Italy\, Alpe Pianello\, Italy
END:VEVENT
END:VCALENDAR